BEGIN:VCALENDAR
VERSION:2.0
PRODID:icalendar-ruby
CALSCALE:GREGORIAN
METHOD:PUBLISH
BEGIN:VEVENT
DTSTAMP:20260419T141251Z
UID:150-79492@oaklakechurch.org
DTSTART;VALUE=DATE:20260424
DTEND;VALUE=DATE:20260426
CLASS:PUBLIC
CREATED:20260316T143744
DESCRIPTION:
LAST-MODIFIED:20260316T143744
LOCATION:Breezy Point Resort
SUMMARY:NE Minnesota ELCA Synod Assembly
URL;VALUE=URI:https://www.oaklakechurch.org/events/ne-minnesota-elca-synod-
 assembly/2026-04-24
END:VEVENT
END:VCALENDAR
