BEGIN:VCALENDAR
VERSION:2.0
PRODID:icalendar-ruby
CALSCALE:GREGORIAN
METHOD:PUBLISH
BEGIN:VEVENT
DTSTAMP:20260419T140344Z
UID:136-79670@oaklakechurch.org
DTSTART:20260504T213000Z
DTEND:20260504T223000Z
CLASS:PUBLIC
CREATED:20260320T152439
DESCRIPTION:
LAST-MODIFIED:20260320T152439
LOCATION:Trinity Lutheran Church - 7576 Lincoln Dr Birch St.\, Bruno  MN
SUMMARY:Joint Health Council Meets
URL;VALUE=URI:https://www.oaklakechurch.org/events/joint-health-council-mee
 ts/2026-05-04
END:VEVENT
END:VCALENDAR
